BEGIN:VCALENDAR
VERSION:2.0
PRODID:-//Irene Milla - ECPv5.16.1.1//NONSGML v1.0//EN
CALSCALE:GREGORIAN
METHOD:PUBLISH
X-WR-CALNAME:Irene Milla
X-ORIGINAL-URL:https://irenemilla.com
X-WR-CALDESC:Events for Irene Milla
REFRESH-INTERVAL;VALUE=DURATION:PT1H
X-Robots-Tag:noindex
X-PUBLISHED-TTL:PT1H
BEGIN:VTIMEZONE
TZID:UTC
BEGIN:STANDARD
TZOFFSETFROM:+0000
TZOFFSETTO:+0000
TZNAME:UTC
DTSTART:20220101T000000
END:STANDARD
END:VTIMEZONE
BEGIN:VEVENT
DTSTART;TZID=UTC:20220520T190000
DTEND;TZID=UTC:20220520T200000
DTSTAMP:20260419T192437
CREATED:20230203T131632Z
LAST-MODIFIED:20230203T131632Z
UID:2029-1653073200-1653076800@irenemilla.com
SUMMARY:Vivir relaciones sanas
DESCRIPTION:
URL:https://irenemilla.com/event/vivir-relaciones-sanas-2/
LOCATION:The Yoga Club\, C/del Sol\, 5\, Barcelona\, Barcelona\, 08012\, España
CATEGORIES:Charlas
END:VEVENT
END:VCALENDAR